BEGIN:VCALENDAR
VERSION:2.0
PRODID:-//Tukios.com/
BEGIN:VEVENT
UID:00e90f0f-cbcc-4734-9fc8-e8670b1db5d6@www.cardaras.com
DTSTAMP:20260424T185536Z
DTSTART:20260427T180000Z
DTEND:20260427T190000Z
SUMMARY:Funeral Service
DESCRIPTION:
URL:https://www.cardaras.com/obituaries/bill-marcum
LOCATION:Garrett-Cardaras Funeral Home 201 West High Street  McArthur OH 
	45651
GEO:39.2481787;-82.4803946
END:VEVENT
END:VCALENDAR