BEGIN:VCALENDAR
VERSION:2.0
PRODID:-//Tukios.com/
BEGIN:VEVENT
UID:b6339c1a-32bc-4d75-b909-1970946ea011@www.cardaras.com
DTSTAMP:20260424T185657Z
DTSTART:20260427T160000Z
DTEND:20260427T180000Z
SUMMARY:Visitation
DESCRIPTION:
URL:https://www.cardaras.com/obituaries/bill-marcum
LOCATION:Garrett-Cardaras Funeral Home 201 West High Street  McArthur OH 
	45651
GEO:39.2481787;-82.4803946
END:VEVENT
END:VCALENDAR