BEGIN:VCALENDAR
VERSION:2.0
PRODID:-//Tukios.com/
BEGIN:VEVENT
UID:fc16e972-27e5-4f18-b73b-2333a5438f91@www.cardaras.com
DTSTAMP:20260420T181837Z
DTSTART:20260422T170000Z
DTEND:20260422T180000Z
SUMMARY:Visitation
DESCRIPTION:
URL:https://www.cardaras.com/obituaries/frances-nixon
LOCATION: 201 W High St  McArthur OH 45651
GEO:39.2481787;-82.4803946
END:VEVENT
END:VCALENDAR