BEGIN:VCALENDAR
VERSION:2.0
PRODID:-//Tukios.com/
BEGIN:VEVENT
UID:fc26b991-50b8-4fa5-ac7c-07f73a5f9cfc@www.cardaras.com
DTSTAMP:20260420T181349Z
DTSTART:20260422T180000Z
DTEND:20260422T190000Z
SUMMARY:Funeral Service
DESCRIPTION:
URL:https://www.cardaras.com/obituaries/frances-nixon
LOCATION: 201 W High St  McArthur OH 45651
GEO:39.2481787;-82.4803946
END:VEVENT
END:VCALENDAR