BEGIN:VCALENDAR
VERSION:2.0
PRODID:-//Tukios.com/
BEGIN:VEVENT
UID:0b944581-e323-46d8-b66c-f285796e19c4@www.cardaras.com
DTSTAMP:20260420T182027Z
DTSTART:20260422
SUMMARY:Burial
DESCRIPTION:
URL:https://www.cardaras.com/obituaries/frances-nixon
LOCATION:Bell Cemetery Goose Creek Road  McArthur OH 45651
GEO:39.3225444;-82.5752509
END:VEVENT
END:VCALENDAR