BEGIN:VCALENDAR
VERSION:2.0
PRODID:-//Tukios.com/
BEGIN:VEVENT
UID:ed77e198-529b-4d66-8371-d44282590b74@www.cardaras.com
DTSTAMP:20260421T011853Z
DTSTART:20260424T140000Z
DTEND:20260424T150000Z
SUMMARY:Celebration of Life
DESCRIPTION:
URL:https://www.cardaras.com/obituaries/robert-cassady-ii
LOCATION: 351 North Market Street  Logan OH 43138
GEO:39.5431913;-82.4090586
END:VEVENT
END:VCALENDAR