BEGIN:VCALENDAR
VERSION:2.0
PRODID:-//Tukios.com/
BEGIN:VEVENT
UID:efb8f3a4-32ae-4ea3-83f3-f4f9ec1dacd8@www.cardaras.com
DTSTAMP:20260421T012549Z
DTSTART:20260424T150000Z
DTEND:20260424T160000Z
SUMMARY:Mass
DESCRIPTION:
URL:https://www.cardaras.com/obituaries/robert-cassady-ii
LOCATION: 351 North Market Street  Logan OH 43138
GEO:39.5431913;-82.4090586
END:VEVENT
END:VCALENDAR