BEGIN:VCALENDAR
VERSION:2.0
PRODID:-//Tukios.com/
BEGIN:VEVENT
UID:5cf34364-7924-43ac-ac54-f10f3df9f35d@www.cardaras.com
DTSTAMP:20260421T012852Z
DTSTART:20260423T180000Z
DTEND:20260423T200000Z
SUMMARY:Visitation
DESCRIPTION:
URL:https://www.cardaras.com/obituaries/robert-cassady-ii
LOCATION: 183 East 2nd Street  Logan OH 43138
GEO:39.5385409;-82.4059857
END:VEVENT
END:VCALENDAR