BEGIN:VCALENDAR
VERSION:2.0
PRODID:-//Tukios.com/
BEGIN:VEVENT
UID:e3a43957-d6a7-40a4-8efc-4d9dbf94977c@www.cardaras.com
DTSTAMP:20260421T012343Z
DTSTART:20260423T220000Z
DTEND:20260424T000000Z
SUMMARY:Visitation
DESCRIPTION:
URL:https://www.cardaras.com/obituaries/robert-cassady-ii
LOCATION: 183 East 2nd Street  Logan OH 43138
GEO:39.5385409;-82.4059857
END:VEVENT
END:VCALENDAR